BEGIN:VCALENDAR
VERSION:2.0
PRODID:-//THE ESTATES - ECPv6.15.20//NONSGML v1.0//EN
CALSCALE:GREGORIAN
METHOD:PUBLISH
X-WR-CALNAME:THE ESTATES
X-ORIGINAL-URL:https://theestatesacworth.com
X-WR-CALDESC:Events for THE ESTATES
REFRESH-INTERVAL;VALUE=DURATION:PT1H
X-Robots-Tag:noindex
X-PUBLISHED-TTL:PT1H
BEGIN:VTIMEZONE
TZID:UTC
BEGIN:STANDARD
TZOFFSETFROM:+0000
TZOFFSETTO:+0000
TZNAME:UTC
DTSTART:20210101T000000
END:STANDARD
END:VTIMEZONE
BEGIN:VEVENT
DTSTART;TZID=UTC:20240322T180000
DTEND;TZID=UTC:20240322T200000
DTSTAMP:20260423T231619
CREATED:20230119T203835Z
LAST-MODIFIED:20240219T163913Z
UID:117066-1711130400-1711137600@theestatesacworth.com
SUMMARY:Acworth Easter Egg Hunt
DESCRIPTION:  \n \nThe Easter Bunny is hopping on over to the Acworth Sports Complex\, located at 4000 South Main St. Acworth\, Georgia.   The Acworth Easter Egg Hunt will include over 50\,000 eggs filled with toys\, candy and prizes.   Activities start at 6 pm\, and the hunt will be for all children ages 10 and under. \nThe hunts will take place on the baseball fields; parking will be available at the baseball side of the complex. \nDate:\nFriday\, March 22\, 2024 \nFor more information on the “Egg”stravaganza\, please call the Acworth Parks and Recreation Office at (770) 529-6006. \nAddress:\nAcworth Sports Complex\n4000 South Main Street\nAcworth\, GA 30101 \nFor more information\, please call the Acworth Parks and Recreation department at (770) 529-6006.
URL:https://theestatesacworth.com/event/acworth-easter-egg-hunt-2/
END:VEVENT
BEGIN:VEVENT
DTSTART;TZID=UTC:20231111T110000
DTEND;TZID=UTC:20231111T170000
DTSTAMP:20260423T231619
CREATED:20230119T215541Z
LAST-MODIFIED:20230119T215541Z
UID:117086-1699700400-1699722000@theestatesacworth.com
SUMMARY:Veterans Day Ceremony
DESCRIPTION:The City of Acworth is proud to say thank you to those who have faithfully served their country\, as well as those who are now serving. Acworth is honored to have these brave men and women living in our community and what better way to honor them than to host a Veterans Day Ceremony on November 11 at 2:00 p.m. at the Veterans Memorial at Cauble Park.
URL:https://theestatesacworth.com/event/veterans-day-ceremony/
END:VEVENT
BEGIN:VEVENT
DTSTART;TZID=UTC:20231104T130000
DTEND;TZID=UTC:20231104T170000
DTSTAMP:20260423T231619
CREATED:20230119T215303Z
LAST-MODIFIED:20230119T215303Z
UID:117084-1699102800-1699117200@theestatesacworth.com
SUMMARY:Acworth Craft Beer & Wine Fest
DESCRIPTION:The City of Acworth partners with Atlanta Beer Festivals each year to bring you this annual event! The next Acworth Craft Beer & Wine Festival will take place at Logan Farm Park on Saturday\, November 4\, 2023. Participants will come out and enjoy over 100 craft beers\, live music\, great food\, wine\, and TONS of fun! This event is for people 21 and older\, no kids or pets will be allowed. Registration is required for this event and limited tickets are available. Registration will include event entry\, a souvenir cup\, all beer samples\, and entertainment. \nFor all additional details and to purchase tickets\, please visit: www.acworthbeerwinefest.com
URL:https://theestatesacworth.com/event/acworth-craft-beer-wine-fest-3/
END:VEVENT
BEGIN:VEVENT
DTSTART;TZID=UTC:20231021T150000
DTEND;TZID=UTC:20231021T190000
DTSTAMP:20260423T231619
CREATED:20230119T214419Z
LAST-MODIFIED:20230119T214419Z
UID:117082-1697900400-1697914800@theestatesacworth.com
SUMMARY:Acworth Halloween Jamboree
DESCRIPTION:Come out to Logan Farm Park (4405 Cherokee Street) for a spooky good time!  The 2023 Acworth Halloween JamBOOree will take place on Saturday\, October 21\, 2023 from 3:00 p.m. to 7:00 p.m. on the large field in front of the playground.  There will be games\, rides\, food\, music\, and lots of fun! Get the whole family dressed up\, as there will also be a costume contest for the kids! \nFor more information call 770-917-1234.
URL:https://theestatesacworth.com/event/acworth-halloween-jamboree/
END:VEVENT
BEGIN:VEVENT
DTSTART;TZID=UTC:20231014T120000
DTEND;TZID=UTC:20231014T190000
DTSTAMP:20260423T231619
CREATED:20230119T214113Z
LAST-MODIFIED:20230119T214113Z
UID:117080-1697284800-1697310000@theestatesacworth.com
SUMMARY:Taste of Acworth
DESCRIPTION:The Taste of Acworth will take place again in October of 2023. Thanks to all who came out and made this such a great event for 2022! \nThe City of Acworth partners with the Acworth Business Association and JRM Management to host this event on Main Street in Downtown Acworth.  This event benefits numerous local schools and charities in our community.  Approximately 18\,000 visitors taste their way through this collection of delicacies every year and it is expected to evolve tremendously!  There are over 120 booths from local restaurants and businesses\, plus two live entertainment stages! \nFor information about sponsoring the event\, renting an arts and crafts booth or being a food vendor contact JRM Management at 770-423-1330.
URL:https://theestatesacworth.com/event/taste-of-acworth-3/
END:VEVENT
BEGIN:VEVENT
DTSTART;TZID=UTC:20230704T173000
DTEND;TZID=UTC:20230704T213000
DTSTAMP:20260423T231619
CREATED:20230119T210916Z
LAST-MODIFIED:20230119T210916Z
UID:117078-1688491800-1688506200@theestatesacworth.com
SUMMARY:July 4th Concert and Fireworks
DESCRIPTION:  \nLet freedom ring!  The City of Acworth and the Acworth Business Association are proud to present one of the largest fireworks extravaganzas in Metro Atlanta. \nEach year on July 4th\, live music and fireworks take place at Cauble Park.  Live music will start at 5:30 p.m.  Fireworks will begin at approximately 9:30 p.m. (subject to change depending on weather). \nIf you do not have a parking pass or if the parking is full\, you will need to park downtown and walk down to the park.  Shuttles will not be running for this event.  Handicap parking will be available at McCall Primary School and there will be a shuttle provided for handicap attendees.  Handicap shuttles begin at noon.
URL:https://theestatesacworth.com/event/july-4th-concert-and-fireworks-2/
END:VEVENT
BEGIN:VEVENT
DTSTART;TZID=UTC:20230618T170000
DTEND;TZID=UTC:20230618T220000
DTSTAMP:20260423T231619
CREATED:20230119T210434Z
LAST-MODIFIED:20230119T210434Z
UID:117076-1687107600-1687125600@theestatesacworth.com
SUMMARY:CONCERT ON THE GREEN: A JUNETEENTH CELEBRATION!
DESCRIPTION:Concert on the Green: A Juneteenth Celebration presented by Superior Plumbing was held at Logan Farm Park on Saturday\, June 18\, 2022. The community had a great time celebrating this important day in American history. This concert is held in observance of June 19\, 1865\, when the last African American slaves held in Confederate states were finally freed by the Union army. \nJoin us on Saturday\, June 17\, 2023 for next year’s event. The City of Acworth invites the whole community to bring blankets and folding chairs and join this celebration of freedom and respect for all cultures. \nFor more information\, please email mbgibbs@acworth.org.
URL:https://theestatesacworth.com/event/concert-on-the-green-a-juneteenth-celebration-2/
END:VEVENT
BEGIN:VEVENT
DTSTART;TZID=UTC:20230527T100000
DTEND;TZID=UTC:20230527T170000
DTSTAMP:20260423T231619
CREATED:20230119T210006Z
LAST-MODIFIED:20230119T210006Z
UID:117074-1685181600-1685206800@theestatesacworth.com
SUMMARY:Memorial Day Ceremony
DESCRIPTION:A ceremony to honor those who have given their lives in service to our country will be held on Saturday\, May 27\, 2023\, at 10:00 a.m. in Cauble Park at Patriots Point. Veterans and current servicemen will pay tribute to brave men and women who have fought and died for our nation. Engraved pavers dedicated to those who have served in our armed forces that have been purchased since the previous Veterans Day will be presented at the event. \nFor more information on the event contact Jeff Chase at jchase@acworth.org or call 770-917-1234. \nVeterans Memorial Information\nPurchase Paver
URL:https://theestatesacworth.com/event/memorial-day-ceremony-2/
END:VEVENT
BEGIN:VEVENT
DTSTART;TZID=UTC:20230512T170000
DTEND;TZID=UTC:20230513T170000
DTSTAMP:20260423T231619
CREATED:20230119T205248Z
LAST-MODIFIED:20230119T205248Z
UID:117070-1683910800-1683997200@theestatesacworth.com
SUMMARY:Smoke on The Lake BBQ Festival
DESCRIPTION:Smoke on the Lake BBQ Festival is an annual tradition that Acworth\, Kennesaw and Marietta residents enjoy each Mother’s Day Weekend in Logan Farm Park. The North Cobb Rotary Club organizes and holds this charity fundraiser event. All net proceeds go to charities in our community. Friday night features a concert under the stars. Great weather\, great music\, great BBQ and Cold Beer. Smoke on the Lake brings 20+ Amateur Backyard BBQ Teams that work very hard to cook Wings on Friday night and Pork on Saturday for a hungry crowd.  \nNorth Cobb Rotary partners with the City of Acworth and the Acworth Business Association (ABA) to insure the success of this event. City Staff including Mayor Tommy Allegood\, City Manager James Albright and Police Chief Wayne Dennard lead their staffs in the support of Smoke on the Lake and North Cobb Rotary is grateful for their support. \n\n\n\n\n\n5:00 PM – 10:00 PM FRIDAY\n\n\n\n\n\nThe LORD OF THE WINGS contest Friday night pits the BBQ teams against each other so the attendees’ judge “who’s got the best wings”! Hungry patrons purchase “Taster Tickets from friendly North Cobb Rotarians and then test the cook teams wings on Friday night and vote for the best wings with their “Gold” tickets. There are other food options provided by 1885 Grill and Williamson Brothers BBQ and other food vendors. \nMidlife Crisis ATL will perform ’60s\, ’70s and ’80s hits from 8pm to 10pm Friday night. There will be two beer tents sponsored by Elder Law and Bay Equity featuring Acworth’s own Red Top Brewhouse beer (served cold). You can buy a 6-seat table for $100 on this website or listen to the free concert on a blanket on the lawn. \n\n\n\n\n\n11:00 AM – 4:00 PM SATURDAY\n\n\n\n\n\nSaturday features our PEOPLES’ CHOICE PORK contest. Cook teams compete with their pulled pork and patrons vote with their gold tickets for their favorite pork. The cook teams also compete on chicken and ribs with judges from the Georgia Barbeque Association (GBA). Patrons purchase Taster Tickets from friendly North Cobb Rotarians.
URL:https://theestatesacworth.com/event/smoke-on-the-lake-bbq-festival-3/
END:VEVENT
BEGIN:VEVENT
DTSTART;TZID=UTC:20230227T183000
DTEND;TZID=UTC:20230227T200000
DTSTAMP:20260423T231619
CREATED:20230119T201034Z
LAST-MODIFIED:20230119T201034Z
UID:117045-1677522600-1677528000@theestatesacworth.com
SUMMARY:HOA Board Meeting - February
DESCRIPTION:
URL:https://theestatesacworth.com/event/hoa-board-meeting-february/
END:VEVENT
BEGIN:VEVENT
DTSTART;TZID=UTC:20230225T110000
DTEND;TZID=UTC:20230225T140000
DTSTAMP:20260423T231619
CREATED:20220124T180206Z
LAST-MODIFIED:20230119T203206Z
UID:63507-1677322800-1677333600@theestatesacworth.com
SUMMARY:Special Olympics Polar Plunge
DESCRIPTION:The Special Olympics Polar Plunge\, hosted by the Law Enforcement Torch Run For Georgia\, will take place at Acworth Beach at Acworth Beach on February 25\, 2023. \nThe purpose behind the Polar Plunge is to support and spread awareness for the 27\,115 Special Olympics Georgia athletes. The Polar Plunge is the largest fundraising effort benefiting Special Olympics. Many states across the nation participate in this annual event through the efforts of their Law Enforcement Torch Run program. The Polar Plunge is an official Law Enforcement Torch Run event. \nAnyone with a little guts and a warm heart wanting to support the athletes of Special Olympics Georgia is welcome to participate! Participants collect pledges from friends and family in exchange for the opportunity to jump into icy waters in the middle of winter. All proceeds collected by “plungers” will benefit the athletes of Special Olympics Georgia. Prizes will be awarded in several categories\, including best costume\, highest individual fundraiser\, highest team fundraiser\, and many more. \nVisit www.specialolympicsga.org for more information on Special Olympics Georgia.
URL:https://theestatesacworth.com/event/special-olympics-polar-plunge/
LOCATION:Cauble Park
END:VEVENT
BEGIN:VEVENT
DTSTART;TZID=UTC:20230130T183000
DTEND;TZID=UTC:20230130T200000
DTSTAMP:20260423T231619
CREATED:20220124T170834Z
LAST-MODIFIED:20230119T195400Z
UID:63362-1675103400-1675108800@theestatesacworth.com
SUMMARY:HOA Board Meeting
DESCRIPTION:
URL:https://theestatesacworth.com/event/hoa-board-meeting-26/
END:VEVENT
BEGIN:VEVENT
DTSTART;TZID=UTC:20221215T190000
DTEND;TZID=UTC:20221215T203000
DTSTAMP:20260423T231619
CREATED:20221215T212348Z
LAST-MODIFIED:20221215T212348Z
UID:116670-1671130800-1671136200@theestatesacworth.com
SUMMARY:THE ESTATES 2022 ANNUAL MEETING
DESCRIPTION:THE ESTATES HOMEOWNERS ASSOSIATION WILL BE HOLDING ITS 2022 ANNUAL MEETING THURSDAY DECEMBER 15TH AT 7:00 P.M. THE MEETING WILL BE HELD AT DEPEW ORTHOPEDICS IN THE UPPER MEETING ROOM. \nDEPEW ORTHOPEDICS IS LOCATED AT 2161 CEDARCREST ROAD IN ACWORTH\, GEORGIA.
URL:https://theestatesacworth.com/event/the-estates-2022-annual-meeting/
END:VEVENT
BEGIN:VEVENT
DTSTART;TZID=UTC:20221128T183000
DTEND;TZID=UTC:20221128T200000
DTSTAMP:20260423T231619
CREATED:20220124T174613Z
LAST-MODIFIED:20220124T174638Z
UID:63483-1669660200-1669665600@theestatesacworth.com
SUMMARY:HOA Board Meeting
DESCRIPTION:
URL:https://theestatesacworth.com/event/hoa-board-meeting-36/
END:VEVENT
BEGIN:VEVENT
DTSTART;TZID=UTC:20221101T000000
DTEND;TZID=UTC:20221101T000000
DTSTAMP:20260423T231619
CREATED:20220124T191704Z
LAST-MODIFIED:20220124T191704Z
UID:63728-1667260800-1667260800@theestatesacworth.com
SUMMARY:Acworth Craft Beer & Wine Fest
DESCRIPTION:  \n \n  \nThe City of Acworth partners with Atlanta Beer Festivals each year to bring you this annual event! The next Acworth Craft Beer & Wine Festival will take place at Logan Farm Park in November\, 2022. Participants will come out and enjoy over 100 craft beers\, live music\, great food\, wine\, and TONS of fun! This event is for people 21 and older\, no kids or pets will be allowed. Registration is required for this event and limited tickets are available. Registration will include event entry\, a souvenir cup\, all beer samples\, and entertainment. \nFor all additional details and to purchase tickets\, please visit: www.acworthbeerwinefest.com
URL:https://theestatesacworth.com/event/acworth-craft-beer-wine-fest-2/
END:VEVENT
BEGIN:VEVENT
DTSTART;TZID=UTC:20221031T183000
DTEND;TZID=UTC:20221031T200000
DTSTAMP:20260423T231619
CREATED:20220124T174405Z
LAST-MODIFIED:20220124T174448Z
UID:63473-1667241000-1667246400@theestatesacworth.com
SUMMARY:HOA Board Meeting
DESCRIPTION:
URL:https://theestatesacworth.com/event/hoa-board-meeting-35/
END:VEVENT
BEGIN:VEVENT
DTSTART;TZID=UTC:20221022T150000
DTEND;TZID=UTC:20221022T190000
DTSTAMP:20260423T231619
CREATED:20210903T154801Z
LAST-MODIFIED:20220124T191218Z
UID:29321-1666450800-1666465200@theestatesacworth.com
SUMMARY:Halloween JamBOOree
DESCRIPTION:Come out to Logan Farm Park (4405 Cherokee Street) for a spooky good time!  The 2022 Acworth Halloween JamBOOree will take place on Saturday\, October 22\, 2021 from 3:00 p.m. to 7:00 p.m. on the large field in front of the playground.  There will be games\, rides\, food\, music\, and lots of fun! Get the whole family dressed up\, as there will also be a costume contest for the kids! \nFor more information call 770-917-1234.
URL:https://theestatesacworth.com/event/halloween-jambooree/
END:VEVENT
BEGIN:VEVENT
DTSTART;TZID=UTC:20221008T110000
DTEND;TZID=UTC:20221008T180000
DTSTAMP:20260423T231619
CREATED:20210903T154542Z
LAST-MODIFIED:20220124T191015Z
UID:29305-1665226800-1665252000@theestatesacworth.com
SUMMARY:Taste of Acworth
DESCRIPTION:The Taste of Acworth will take place again in October 8\, 2022. Thanks to all who came out and made this such a great event for 2021! \nThe City of Acworth partners with the Acworth Business Association and JRM Management to host this event on Main Street in Downtown Acworth.  This event benefits numerous local schools and charities in our community.  Approximately 18\,000 visitors taste their way through this collection of delicacies every year and it is expected to evolve tremendously!  There are over 120 booths from local restaurants and businesses\, plus two live entertainment stages! \nFor information about sponsoring the event\, renting an arts and crafts booth or being a food vendor contact JRM Management at 770-423-1330.
URL:https://theestatesacworth.com/event/taste-of-acworth-2/
END:VEVENT
BEGIN:VEVENT
DTSTART;TZID=UTC:20220926T183000
DTEND;TZID=UTC:20220926T200000
DTSTAMP:20260423T231619
CREATED:20220124T174225Z
LAST-MODIFIED:20220124T174248Z
UID:63463-1664217000-1664222400@theestatesacworth.com
SUMMARY:HOA Board Meeting
DESCRIPTION:
URL:https://theestatesacworth.com/event/hoa-board-meeting-34/
END:VEVENT
BEGIN:VEVENT
DTSTART;TZID=UTC:20220924T170000
DTEND;TZID=UTC:20220924T220000
DTSTAMP:20260423T231619
CREATED:20220124T190726Z
LAST-MODIFIED:20220124T190726Z
UID:63691-1664038800-1664056800@theestatesacworth.com
SUMMARY:Concert on the Green: Celebrating Hispanic Heritage Month
DESCRIPTION:Concert on the Green: Celebrating Hispanic Heritage Month continues Acworth’s Concert on the Green series with a festival highlighting Hispanic Cultures within our community.  This event will feature a variety of Hispanic food vendors\, music\, and dance groups in a fun\, family friendly atmosphere! Mariachi Mexico Atlanta will perform prior to Rafael Patino and his group El Guero y su Sierra Santa.  Bring the family out\, and enjoy the evening celebrating together! \nFor more information on the event call 770-917-1234. \nConcierto en el Green: La celebración del Mes de la Cultura Hispana continúa con la serie Concierto sobre en el Green de Acworth con un festival que destaca las culturas hispanas dentro de nuestra comunidad. ¡Este evento contará con una variedad de vendedores de comida hispana\, grupos de música y baile en un ambiente divertido y familiar! Mariachi México Atlanta se presentara y después Rafael Patiño y su grupo\, seguido por El Guero y su Sierra Santa. ¡Traiga a la familia y disfruten celebrando juntos! \nPara obtener más información sobre el evento\, llame al 770-917-1234.
URL:https://theestatesacworth.com/event/concert-on-the-green-celebrating-hispanic-heritage-month/
END:VEVENT
BEGIN:VEVENT
DTSTART;TZID=UTC:20220910T120000
DTEND;TZID=UTC:20220910T220000
DTSTAMP:20260423T231619
CREATED:20220124T190025Z
LAST-MODIFIED:20220124T190025Z
UID:63655-1662811200-1662847200@theestatesacworth.com
SUMMARY:Pizza\, Pints & Pigskins
DESCRIPTION:  \n \nPizza\, Pints\, and Pigskins will take place September 10\, 2022.  We look forward to seeing everyone next year at Logan Farm Park. \nFor more information on the event call 770-917-1234.
URL:https://theestatesacworth.com/event/pizza-pints-pigskins/
END:VEVENT
BEGIN:VEVENT
DTSTART;TZID=UTC:20220829T183000
DTEND;TZID=UTC:20220829T200000
DTSTAMP:20260423T231619
CREATED:20220124T173935Z
LAST-MODIFIED:20220124T173957Z
UID:63461-1661797800-1661803200@theestatesacworth.com
SUMMARY:HOA Board Meeting
DESCRIPTION:
URL:https://theestatesacworth.com/event/hoa-board-meeting-33/
END:VEVENT
BEGIN:VEVENT
DTSTART;TZID=UTC:20220725T183000
DTEND;TZID=UTC:20220725T200000
DTSTAMP:20260423T231619
CREATED:20220124T173729Z
LAST-MODIFIED:20220124T173756Z
UID:63450-1658773800-1658779200@theestatesacworth.com
SUMMARY:HOA Board Meeting
DESCRIPTION:
URL:https://theestatesacworth.com/event/hoa-board-meeting-32/
END:VEVENT
BEGIN:VEVENT
DTSTART;TZID=UTC:20220704T173000
DTEND;TZID=UTC:20220704T230000
DTSTAMP:20260423T231619
CREATED:20210305T192918Z
LAST-MODIFIED:20220124T185727Z
UID:3665-1656955800-1656975600@theestatesacworth.com
SUMMARY:July 4th Concert and Fireworks
DESCRIPTION:EVENT DETAILS\n\nLet freedom ring!  The City of Acworth and the Acworth Business Association are proud to present one of the largest fireworks extravaganzas in Metro Atlanta. \nEach year on July 4th\, live music and fireworks take place at Cauble Park.  Live music will start at 5:30 p.m.  Fireworks will begin at approximately 9:30 p.m. (subject to change depending on weather). \nIf you do not have a parking pass or if the parking is full\, you will need to park downtown and walk down to the park.  Shuttles will not be running for this event.  Handicap parking will be available at McCall Primary School and there will be a shuttle provided for handicap attendees.  Handicap shuttles begin at noon.
URL:https://theestatesacworth.com/event/july-4th-concert-and-fireworks/
END:VEVENT
BEGIN:VEVENT
DTSTART;TZID=UTC:20220627T183000
DTEND;TZID=UTC:20220627T200000
DTSTAMP:20260423T231619
CREATED:20220124T173536Z
LAST-MODIFIED:20220124T173604Z
UID:63432-1656354600-1656360000@theestatesacworth.com
SUMMARY:HOA Board Meeting
DESCRIPTION:
URL:https://theestatesacworth.com/event/hoa-board-meeting-31/
END:VEVENT
BEGIN:VEVENT
DTSTART;TZID=UTC:20220618T180000
DTEND;TZID=UTC:20220618T200000
DTSTAMP:20260423T231619
CREATED:20210305T193458Z
LAST-MODIFIED:20220124T185449Z
UID:3668-1655575200-1655582400@theestatesacworth.com
SUMMARY:DADDY DAUGHTER DATE NIGHT
DESCRIPTION:  \nThe City of Acworth will host a Daddy Daughter Date Night at Tanyard Creek Overlook on a Saturday in June 2022!\n \nFor further information\, please contact Jordon Gonzalez at jgonzalez@acworth.org
URL:https://theestatesacworth.com/event/daddy-daughter-date-night/
END:VEVENT
BEGIN:VEVENT
DTSTART;TZID=UTC:20220618T170000
DTEND;TZID=UTC:20220618T210000
DTSTAMP:20260423T231619
CREATED:20220124T185119Z
LAST-MODIFIED:20220124T185119Z
UID:63636-1655571600-1655586000@theestatesacworth.com
SUMMARY:Concert on the Green: A Juneteenth Celebration
DESCRIPTION:  \n \n  \nConcert on the Green: A Juneteenth Celebration will take place at Logan Farm Park on Saturday\, June 18\, 2022. The event opens at 5:00 p.m. with live music taking place from 7:00 p.m. to 9:00 p.m. This concert is a celebration in observance of June 19\, 1865\, when the last African American slaves held in Confederate states were finally freed by the Union army. The City of Acworth will hold a free concert from the Total Package Band. \nThe City of Acworth invites the whole community to bring blankets and folding chairs and join this celebration of freedom and respect for all cultures. \nFor vendor or sponsorship information\, please contact Taylor Aubrey\, taubrey@acworth.org.
URL:https://theestatesacworth.com/event/concert-on-the-green-a-juneteenth-celebration/
END:VEVENT
BEGIN:VEVENT
DTSTART;TZID=UTC:20220530T183000
DTEND;TZID=UTC:20220530T200000
DTSTAMP:20260423T231619
CREATED:20220124T173347Z
LAST-MODIFIED:20220124T173409Z
UID:63426-1653935400-1653940800@theestatesacworth.com
SUMMARY:HOA Board Meeting
DESCRIPTION:
URL:https://theestatesacworth.com/event/hoa-board-meeting-30/
END:VEVENT
BEGIN:VEVENT
DTSTART;TZID=UTC:20220514T090000
DTEND;TZID=UTC:20220514T160000
DTSTAMP:20260423T231619
CREATED:20210305T174456Z
LAST-MODIFIED:20220124T183816Z
UID:3627-1652518800-1652544000@theestatesacworth.com
SUMMARY:Acworth Dragon Boat Festival
DESCRIPTION:The Acworth Dragon Boat Festival will take place on Saturday\, May 14\, 2022 at Dallas Landing supporting Loving Arms Cancer Outreach! Dragon Boating is an up-and-coming sport\, soon to be an Olympic sport.  Many communities hold dragon boat races as a different means to benefit charitable organizations within the community. \nThese festivals are fun-filled days for all ages featuring corporate and community teams racing in 46-foot long ornamental dragon boats.  Race day combines various cultural activities with food and fun for spectators and participants.  People love the thrill\, the teamwork\, the adrenaline\, and positive interaction in the boat.  People who never thought of themselves as athletes can thrive in a dragon boat and discover a challenging alternative to other sports\, which is why this is currently the fastest-growing water sport! \nTo learn more about this sport or to get involved\, please visit www.acworthdragonboatfest.com
URL:https://theestatesacworth.com/event/acworth-dragon-boat-festival-2/
END:VEVENT
BEGIN:VEVENT
DTSTART;TZID=UTC:20220506T170000
DTEND;TZID=UTC:20220507T220000
DTSTAMP:20260423T231619
CREATED:20210305T175501Z
LAST-MODIFIED:20220124T183258Z
UID:3629-1651856400-1651960800@theestatesacworth.com
SUMMARY:SMOKE ON THE LAKE BBQ FESTIVAL
DESCRIPTION:  \n \nThe North Cobb Rotary Club\, City of Acworth\, and the Georgia Barbecue Association partner each year to bring you the Smoke on the Lake BBQ Festival presented by Superior Plumbing.  This event will be held at Logan Farm Park on Friday\, May 6\, 2022 from 5:00 p.m. to 10:00 p.m. and Saturday\, May 7\, 2022 from 11:00 a.m. to 4:00 p.m.  All proceeds from this event are distributed amongst several local charities\, so everyone come out and help make a difference in your community! \nThis two-day event features a Friday night concert under the stars and a BBQ competition on Saturday!  Teams from all over the Southeast compete in professional and amateur divisions to see who will take home the title.  For a small fee\, you can taste your way through some of the best BBQ in the Southeast! \nParking will not be available at the park so please park downtown. \nFor more information on this event\, please visit www.smokeonthelake.org.
URL:https://theestatesacworth.com/event/smoke-on-the-lake-bbq-festival-2/
END:VEVENT
END:VCALENDAR