BEGIN:VCALENDAR
VERSION:2.0
PRODID:-//THE ESTATES - ECPv6.15.20//NONSGML v1.0//EN
CALSCALE:GREGORIAN
METHOD:PUBLISH
X-ORIGINAL-URL:https://theestatesacworth.com
X-WR-CALDESC:Events for THE ESTATES
REFRESH-INTERVAL;VALUE=DURATION:PT1H
X-Robots-Tag:noindex
X-PUBLISHED-TTL:PT1H
BEGIN:VTIMEZONE
TZID:UTC
BEGIN:STANDARD
TZOFFSETFROM:+0000
TZOFFSETTO:+0000
TZNAME:UTC
DTSTART:20180101T000000
END:STANDARD
END:VTIMEZONE
BEGIN:VTIMEZONE
TZID:America/New_York
BEGIN:DAYLIGHT
TZOFFSETFROM:-0500
TZOFFSETTO:-0400
TZNAME:EDT
DTSTART:20180311T070000
END:DAYLIGHT
BEGIN:STANDARD
TZOFFSETFROM:-0400
TZOFFSETTO:-0500
TZNAME:EST
DTSTART:20181104T060000
END:STANDARD
BEGIN:DAYLIGHT
TZOFFSETFROM:-0500
TZOFFSETTO:-0400
TZNAME:EDT
DTSTART:20190310T070000
END:DAYLIGHT
BEGIN:STANDARD
TZOFFSETFROM:-0400
TZOFFSETTO:-0500
TZNAME:EST
DTSTART:20191103T060000
END:STANDARD
BEGIN:DAYLIGHT
TZOFFSETFROM:-0500
TZOFFSETTO:-0400
TZNAME:EDT
DTSTART:20200308T070000
END:DAYLIGHT
BEGIN:STANDARD
TZOFFSETFROM:-0400
TZOFFSETTO:-0500
TZNAME:EST
DTSTART:20201101T060000
END:STANDARD
END:VTIMEZONE
BEGIN:VEVENT
DTSTART;TZID=UTC:20191125T183000
DTEND;TZID=UTC:20191125T200000
DTSTAMP:20260424T100748
CREATED:20190920T132937Z
LAST-MODIFIED:20190920T132937Z
UID:2681-1574706600-1574712000@theestatesacworth.com
SUMMARY:HOA Board Meeting
DESCRIPTION:
URL:https://theestatesacworth.com/event/hoa-board-meeting-4/
END:VEVENT
BEGIN:VEVENT
DTSTART;TZID=America/New_York:20191109T180000
DTEND;TZID=America/New_York:20191109T210000
DTSTAMP:20260424T100748
CREATED:20190806T191448Z
LAST-MODIFIED:20190913T184751Z
UID:1714-1573322400-1573333200@theestatesacworth.com
SUMMARY:The Estates Fall Festival
DESCRIPTION:Food\, Games\, Inflatables\, Music Candy\, Fun
URL:https://theestatesacworth.com/event/the-estates-fall-festival/
END:VEVENT
BEGIN:VEVENT
DTSTART;TZID=UTC:20191104T183000
DTEND;TZID=UTC:20191104T200000
DTSTAMP:20260424T100748
CREATED:20191030T193427Z
LAST-MODIFIED:20191030T194959Z
UID:2997-1572892200-1572897600@theestatesacworth.com
SUMMARY:Re-Scheduled HOA Board Meeting
DESCRIPTION:
URL:https://theestatesacworth.com/event/re-scheduled-hoa-board-meeting/
END:VEVENT
BEGIN:VEVENT
DTSTART;TZID=UTC:20191028T183000
DTEND;TZID=UTC:20191028T200000
DTSTAMP:20260424T100748
CREATED:20190920T132739Z
LAST-MODIFIED:20191030T195537Z
UID:2679-1572287400-1572292800@theestatesacworth.com
SUMMARY:HOA Board Meeting
DESCRIPTION:This meeting was rescheduled to Monday\, November 4th.
URL:https://theestatesacworth.com/event/hoa-board-meeting-3/
END:VEVENT
BEGIN:VEVENT
DTSTART;TZID=UTC:20191026T163000
DTEND;TZID=UTC:20191026T210000
DTSTAMP:20260424T100748
CREATED:20190928T140349Z
LAST-MODIFIED:20190928T140349Z
UID:2759-1572107400-1572123600@theestatesacworth.com
SUMMARY:Acworth Fall Classic Car Cruise
DESCRIPTION:On Saturday\, October 26\, the city will host a Classic Car Cruise from 4:00 p.m. to 9:00 p.m. on Main Street in Historic Downtown Acworth.  The Lake City Cruisers partner with the city and the downtown Acworth merchants to hold these Classic Car Cruises. The event is free to the public. A $2 entry fee is requested for all vehicles in the cruise.  All proceeds go to the Horizon Field\, an all-inclusive special needs sports facility in Acworth. \n 
URL:https://theestatesacworth.com/event/acworth-fall-classic-car-cruise/
END:VEVENT
BEGIN:VEVENT
DTSTART;TZID=UTC:20191012T110000
DTEND;TZID=UTC:20191012T180000
DTSTAMP:20260424T100748
CREATED:20190928T135813Z
LAST-MODIFIED:20190928T140659Z
UID:2755-1570878000-1570903200@theestatesacworth.com
SUMMARY:Taste of Acworth
DESCRIPTION:The Taste of Acworth is an annual event that will take place Saturday\, October 12 from 11:00 a.m. to 6:00 p.m. The City of Acworth partners with the Acworth Business Association and JRM Management to host this event on Main Street in Downtown Acworth.
URL:https://theestatesacworth.com/event/taste-of-acworth/
END:VEVENT
BEGIN:VEVENT
DTSTART;TZID=UTC:20190930T183000
DTEND;TZID=UTC:20190930T200000
DTSTAMP:20260424T100748
CREATED:20190920T125443Z
LAST-MODIFIED:20190920T125443Z
UID:2677-1569868200-1569873600@theestatesacworth.com
SUMMARY:HOA Board Meeting
DESCRIPTION:
URL:https://theestatesacworth.com/event/hoa-board-meeting-2/
END:VEVENT
BEGIN:VEVENT
DTSTART;TZID=UTC:20190729T180000
DTEND;TZID=UTC:20190729T200000
DTSTAMP:20260424T100748
CREATED:20190729T170341Z
LAST-MODIFIED:20190729T170341Z
UID:1335-1564423200-1564430400@theestatesacworth.com
SUMMARY:HOA BOARD MEETING
DESCRIPTION:
URL:https://theestatesacworth.com/event/hoa-board-meeting/
LOCATION:Clubhouse
END:VEVENT
END:VCALENDAR