BEGIN:VCALENDAR
VERSION:2.0
PRODID:-//THE ESTATES - ECPv6.15.20//NONSGML v1.0//EN
CALSCALE:GREGORIAN
METHOD:PUBLISH
X-WR-CALNAME:THE ESTATES
X-ORIGINAL-URL:https://theestatesacworth.com
X-WR-CALDESC:Events for THE ESTATES
REFRESH-INTERVAL;VALUE=DURATION:PT1H
X-Robots-Tag:noindex
X-PUBLISHED-TTL:PT1H
BEGIN:VTIMEZONE
TZID:UTC
BEGIN:STANDARD
TZOFFSETFROM:+0000
TZOFFSETTO:+0000
TZNAME:UTC
DTSTART:20180101T000000
END:STANDARD
END:VTIMEZONE
BEGIN:VEVENT
DTSTART;TZID=UTC:20211113T130000
DTEND;TZID=UTC:20211113T170000
DTSTAMP:20260424T053219
CREATED:20210903T160126Z
LAST-MODIFIED:20210903T160126Z
UID:29362-1636808400-1636822800@theestatesacworth.com
SUMMARY:Acworth Craft Beer & Wine Fest
DESCRIPTION:This page is protected and requires you to log in with a valid username and password.If you do not have a username and password for this site\, Click Here to request one. You may also follow whatever user account request procedure has been established and published by The Estates Homeowners Association.If you do have a user account\, please CLICK HERE TO LOG IN  \n\nChange your password \nForgotten password? \nRequest a new user account
URL:https://theestatesacworth.com/event/acworth-craft-beer-wine-fest/
END:VEVENT
BEGIN:VEVENT
DTSTART;TZID=UTC:20211030T160000
DTEND;TZID=UTC:20211030T210000
DTSTAMP:20260424T053219
CREATED:20210903T155029Z
LAST-MODIFIED:20210903T155029Z
UID:29339-1635609600-1635627600@theestatesacworth.com
SUMMARY:Classic Car Cruises
DESCRIPTION:This page is protected and requires you to log in with a valid username and password.If you do not have a username and password for this site\, Click Here to request one. You may also follow whatever user account request procedure has been established and published by The Estates Homeowners Association.If you do have a user account\, please CLICK HERE TO LOG IN  \n\nChange your password \nForgotten password? \nRequest a new user account
URL:https://theestatesacworth.com/event/classic-car-cruises/
END:VEVENT
BEGIN:VEVENT
DTSTART;TZID=UTC:20211025T183000
DTEND;TZID=UTC:20211025T200000
DTSTAMP:20260424T053219
CREATED:20210305T191316Z
LAST-MODIFIED:20210305T191316Z
UID:3656-1635186600-1635192000@theestatesacworth.com
SUMMARY:HOA Board Meeting
DESCRIPTION:This page is protected and requires you to log in with a valid username and password.If you do not have a username and password for this site\, Click Here to request one. You may also follow whatever user account request procedure has been established and published by The Estates Homeowners Association.If you do have a user account\, please CLICK HERE TO LOG IN  \n\nChange your password \nForgotten password? \nRequest a new user account
URL:https://theestatesacworth.com/event/hoa-board-meeting-24/
END:VEVENT
BEGIN:VEVENT
DTSTART;TZID=UTC:20210927T183000
DTEND;TZID=UTC:20210927T200000
DTSTAMP:20260424T053219
CREATED:20210305T191205Z
LAST-MODIFIED:20210305T191205Z
UID:3652-1632767400-1632772800@theestatesacworth.com
SUMMARY:HOA Board Meeting
DESCRIPTION:This page is protected and requires you to log in with a valid username and password.If you do not have a username and password for this site\, Click Here to request one. You may also follow whatever user account request procedure has been established and published by The Estates Homeowners Association.If you do have a user account\, please CLICK HERE TO LOG IN  \n\nChange your password \nForgotten password? \nRequest a new user account
URL:https://theestatesacworth.com/event/hoa-board-meeting-23/
END:VEVENT
BEGIN:VEVENT
DTSTART;TZID=UTC:20210918T080000
DTEND;TZID=UTC:20210919T170000
DTSTAMP:20260424T053219
CREATED:20210903T154215Z
LAST-MODIFIED:20210903T154215Z
UID:29279-1631952000-1632070800@theestatesacworth.com
SUMMARY:Mother and Son Camp Out
DESCRIPTION:This page is protected and requires you to log in with a valid username and password.If you do not have a username and password for this site\, Click Here to request one. You may also follow whatever user account request procedure has been established and published by The Estates Homeowners Association.If you do have a user account\, please CLICK HERE TO LOG IN  \n\nChange your password \nForgotten password? \nRequest a new user account
URL:https://theestatesacworth.com/event/mother-and-son-camp-out/
END:VEVENT
BEGIN:VEVENT
DTSTART;TZID=UTC:20210830T183000
DTEND;TZID=UTC:20210830T200000
DTSTAMP:20260424T053219
CREATED:20210305T191049Z
LAST-MODIFIED:20210305T191049Z
UID:3650-1630348200-1630353600@theestatesacworth.com
SUMMARY:HOA Board Meeting
DESCRIPTION:This page is protected and requires you to log in with a valid username and password.If you do not have a username and password for this site\, Click Here to request one. You may also follow whatever user account request procedure has been established and published by The Estates Homeowners Association.If you do have a user account\, please CLICK HERE TO LOG IN  \n\nChange your password \nForgotten password? \nRequest a new user account
URL:https://theestatesacworth.com/event/hoa-board-meeting-22/
END:VEVENT
BEGIN:VEVENT
DTSTART;TZID=UTC:20210726T183000
DTEND;TZID=UTC:20210726T200000
DTSTAMP:20260424T053219
CREATED:20210305T190925Z
LAST-MODIFIED:20210305T190925Z
UID:3647-1627324200-1627329600@theestatesacworth.com
SUMMARY:HOA Board Meeting
DESCRIPTION:This page is protected and requires you to log in with a valid username and password.If you do not have a username and password for this site\, Click Here to request one. You may also follow whatever user account request procedure has been established and published by The Estates Homeowners Association.If you do have a user account\, please CLICK HERE TO LOG IN  \n\nChange your password \nForgotten password? \nRequest a new user account
URL:https://theestatesacworth.com/event/hoa-board-meeting-21/
END:VEVENT
BEGIN:VEVENT
DTSTART;TZID=UTC:20210628T183000
DTEND;TZID=UTC:20210628T200000
DTSTAMP:20260424T053219
CREATED:20210305T190754Z
LAST-MODIFIED:20210305T190754Z
UID:3644-1624905000-1624910400@theestatesacworth.com
SUMMARY:HOA Board Meeting
DESCRIPTION:This page is protected and requires you to log in with a valid username and password.If you do not have a username and password for this site\, Click Here to request one. You may also follow whatever user account request procedure has been established and published by The Estates Homeowners Association.If you do have a user account\, please CLICK HERE TO LOG IN  \n\nChange your password \nForgotten password? \nRequest a new user account
URL:https://theestatesacworth.com/event/hoa-board-meeting-20/
END:VEVENT
BEGIN:VEVENT
DTSTART;TZID=UTC:20210524T183000
DTEND;TZID=UTC:20210524T200000
DTSTAMP:20260424T053219
CREATED:20210305T190634Z
LAST-MODIFIED:20210305T190634Z
UID:3642-1621881000-1621886400@theestatesacworth.com
SUMMARY:HOA Board Meeting
DESCRIPTION:This page is protected and requires you to log in with a valid username and password.If you do not have a username and password for this site\, Click Here to request one. You may also follow whatever user account request procedure has been established and published by The Estates Homeowners Association.If you do have a user account\, please CLICK HERE TO LOG IN  \n\nChange your password \nForgotten password? \nRequest a new user account
URL:https://theestatesacworth.com/event/hoa-board-meeting-19/
END:VEVENT
BEGIN:VEVENT
DTSTART;TZID=UTC:20210426T183000
DTEND;TZID=UTC:20210426T200000
DTSTAMP:20260424T053219
CREATED:20210305T190457Z
LAST-MODIFIED:20210305T190457Z
UID:3638-1619461800-1619467200@theestatesacworth.com
SUMMARY:HOA Board Meeting
DESCRIPTION:This page is protected and requires you to log in with a valid username and password.If you do not have a username and password for this site\, Click Here to request one. You may also follow whatever user account request procedure has been established and published by The Estates Homeowners Association.If you do have a user account\, please CLICK HERE TO LOG IN  \n\nChange your password \nForgotten password? \nRequest a new user account
URL:https://theestatesacworth.com/event/hoa-board-meeting-18/
END:VEVENT
BEGIN:VEVENT
DTSTART;TZID=UTC:20210403T110000
DTEND;TZID=UTC:20210403T130000
DTSTAMP:20260424T053219
CREATED:20210328T224951Z
LAST-MODIFIED:20210328T224951Z
UID:4143-1617447600-1617454800@theestatesacworth.com
SUMMARY:Neighborhood Easter Egg Hunt
DESCRIPTION:This page is protected and requires you to log in with a valid username and password.If you do not have a username and password for this site\, Click Here to request one. You may also follow whatever user account request procedure has been established and published by The Estates Homeowners Association.If you do have a user account\, please CLICK HERE TO LOG IN  \n\nChange your password \nForgotten password? \nRequest a new user account
URL:https://theestatesacworth.com/event/neighborhood-easter-egg-hunt/
END:VEVENT
BEGIN:VEVENT
DTSTART;TZID=UTC:20210329T183000
DTEND;TZID=UTC:20210329T200000
DTSTAMP:20260424T053219
CREATED:20210305T190312Z
LAST-MODIFIED:20210305T190312Z
UID:3636-1617042600-1617048000@theestatesacworth.com
SUMMARY:HOA Board Meeting
DESCRIPTION:This page is protected and requires you to log in with a valid username and password.If you do not have a username and password for this site\, Click Here to request one. You may also follow whatever user account request procedure has been established and published by The Estates Homeowners Association.If you do have a user account\, please CLICK HERE TO LOG IN  \n\nChange your password \nForgotten password? \nRequest a new user account
URL:https://theestatesacworth.com/event/hoa-board-meeting-17/
END:VEVENT
BEGIN:VEVENT
DTSTART;TZID=UTC:20201123T183000
DTEND;TZID=UTC:20201123T200000
DTSTAMP:20260424T053219
CREATED:20200128T175507Z
LAST-MODIFIED:20200128T175507Z
UID:3028-1606156200-1606161600@theestatesacworth.com
SUMMARY:HOA Board Meeting
DESCRIPTION:This page is protected and requires you to log in with a valid username and password.If you do not have a username and password for this site\, Click Here to request one. You may also follow whatever user account request procedure has been established and published by The Estates Homeowners Association.If you do have a user account\, please CLICK HERE TO LOG IN  \n\nChange your password \nForgotten password? \nRequest a new user account
URL:https://theestatesacworth.com/event/hoa-board-meeting-16/
END:VEVENT
BEGIN:VEVENT
DTSTART;TZID=UTC:20201026T183000
DTEND;TZID=UTC:20201026T200000
DTSTAMP:20260424T053219
CREATED:20200128T175350Z
LAST-MODIFIED:20200128T175350Z
UID:3026-1603737000-1603742400@theestatesacworth.com
SUMMARY:HOA Board Meeting
DESCRIPTION:This page is protected and requires you to log in with a valid username and password.If you do not have a username and password for this site\, Click Here to request one. You may also follow whatever user account request procedure has been established and published by The Estates Homeowners Association.If you do have a user account\, please CLICK HERE TO LOG IN  \n\nChange your password \nForgotten password? \nRequest a new user account
URL:https://theestatesacworth.com/event/hoa-board-meeting-15/
END:VEVENT
BEGIN:VEVENT
DTSTART;TZID=UTC:20200928T183000
DTEND;TZID=UTC:20200928T200000
DTSTAMP:20260424T053219
CREATED:20200128T175142Z
LAST-MODIFIED:20200128T175142Z
UID:3024-1601317800-1601323200@theestatesacworth.com
SUMMARY:HOA Board Meeting
DESCRIPTION:This page is protected and requires you to log in with a valid username and password.If you do not have a username and password for this site\, Click Here to request one. You may also follow whatever user account request procedure has been established and published by The Estates Homeowners Association.If you do have a user account\, please CLICK HERE TO LOG IN  \n\nChange your password \nForgotten password? \nRequest a new user account
URL:https://theestatesacworth.com/event/hoa-board-meeting-14/
END:VEVENT
BEGIN:VEVENT
DTSTART;TZID=UTC:20200824T183000
DTEND;TZID=UTC:20200824T200000
DTSTAMP:20260424T053219
CREATED:20200128T175019Z
LAST-MODIFIED:20200128T175019Z
UID:3022-1598293800-1598299200@theestatesacworth.com
SUMMARY:HOA Board Meeting
DESCRIPTION:This page is protected and requires you to log in with a valid username and password.If you do not have a username and password for this site\, Click Here to request one. You may also follow whatever user account request procedure has been established and published by The Estates Homeowners Association.If you do have a user account\, please CLICK HERE TO LOG IN  \n\nChange your password \nForgotten password? \nRequest a new user account
URL:https://theestatesacworth.com/event/hoa-board-meeting-13/
END:VEVENT
BEGIN:VEVENT
DTSTART;TZID=UTC:20200727T183000
DTEND;TZID=UTC:20200727T200000
DTSTAMP:20260424T053219
CREATED:20200128T174840Z
LAST-MODIFIED:20200128T174840Z
UID:3020-1595874600-1595880000@theestatesacworth.com
SUMMARY:HOA Board Meeting
DESCRIPTION:This page is protected and requires you to log in with a valid username and password.If you do not have a username and password for this site\, Click Here to request one. You may also follow whatever user account request procedure has been established and published by The Estates Homeowners Association.If you do have a user account\, please CLICK HERE TO LOG IN  \n\nChange your password \nForgotten password? \nRequest a new user account
URL:https://theestatesacworth.com/event/hoa-board-meeting-12/
END:VEVENT
BEGIN:VEVENT
DTSTART;TZID=UTC:20200622T183000
DTEND;TZID=UTC:20200622T200000
DTSTAMP:20260424T053219
CREATED:20200128T174646Z
LAST-MODIFIED:20200128T174646Z
UID:3018-1592850600-1592856000@theestatesacworth.com
SUMMARY:HOA Board Meeting
DESCRIPTION:This page is protected and requires you to log in with a valid username and password.If you do not have a username and password for this site\, Click Here to request one. You may also follow whatever user account request procedure has been established and published by The Estates Homeowners Association.If you do have a user account\, please CLICK HERE TO LOG IN  \n\nChange your password \nForgotten password? \nRequest a new user account
URL:https://theestatesacworth.com/event/hoa-board-meeting-11/
END:VEVENT
BEGIN:VEVENT
DTSTART;TZID=UTC:20200530T163000
DTEND;TZID=UTC:20200530T210000
DTSTAMP:20260424T053219
CREATED:20200128T180811Z
LAST-MODIFIED:20200128T181535Z
UID:3032-1590856200-1590872400@theestatesacworth.com
SUMMARY:Acworth Spring Classic Car Cruise
DESCRIPTION:This page is protected and requires you to log in with a valid username and password.If you do not have a username and password for this site\, Click Here to request one. You may also follow whatever user account request procedure has been established and published by The Estates Homeowners Association.If you do have a user account\, please CLICK HERE TO LOG IN  \n\nChange your password \nForgotten password? \nRequest a new user account
URL:https://theestatesacworth.com/event/acworth-spring-classic-car-cruise/
END:VEVENT
BEGIN:VEVENT
DTSTART;TZID=UTC:20200525T183000
DTEND;TZID=UTC:20200525T200000
DTSTAMP:20260424T053219
CREATED:20200128T174527Z
LAST-MODIFIED:20200128T174527Z
UID:3016-1590431400-1590436800@theestatesacworth.com
SUMMARY:HOA Board Meeting
DESCRIPTION:This page is protected and requires you to log in with a valid username and password.If you do not have a username and password for this site\, Click Here to request one. You may also follow whatever user account request procedure has been established and published by The Estates Homeowners Association.If you do have a user account\, please CLICK HERE TO LOG IN  \n\nChange your password \nForgotten password? \nRequest a new user account
URL:https://theestatesacworth.com/event/hoa-board-meeting-10/
END:VEVENT
BEGIN:VEVENT
DTSTART;TZID=UTC:20200523T100000
DTEND;TZID=UTC:20200523T170000
DTSTAMP:20260424T053219
CREATED:20200128T183338Z
LAST-MODIFIED:20200128T183338Z
UID:3046-1590228000-1590253200@theestatesacworth.com
SUMMARY:Memorial Day Ceremony
DESCRIPTION:This page is protected and requires you to log in with a valid username and password.If you do not have a username and password for this site\, Click Here to request one. You may also follow whatever user account request procedure has been established and published by The Estates Homeowners Association.If you do have a user account\, please CLICK HERE TO LOG IN  \n\nChange your password \nForgotten password? \nRequest a new user account
URL:https://theestatesacworth.com/event/memorial-day-ceremony/
END:VEVENT
BEGIN:VEVENT
DTSTART;TZID=UTC:20200508T080000
DTEND;TZID=UTC:20200509T170000
DTSTAMP:20260424T053219
CREATED:20200128T183038Z
LAST-MODIFIED:20200128T183038Z
UID:3044-1588924800-1589043600@theestatesacworth.com
SUMMARY:SMOKE ON THE LAKE BBQ FESTIVAL
DESCRIPTION:This page is protected and requires you to log in with a valid username and password.If you do not have a username and password for this site\, Click Here to request one. You may also follow whatever user account request procedure has been established and published by The Estates Homeowners Association.If you do have a user account\, please CLICK HERE TO LOG IN  \n\nChange your password \nForgotten password? \nRequest a new user account
URL:https://theestatesacworth.com/event/smoke-on-the-lake-bbq-festival/
END:VEVENT
BEGIN:VEVENT
DTSTART;TZID=UTC:20200502T080000
DTEND;TZID=UTC:20200502T170000
DTSTAMP:20260424T053219
CREATED:20200128T182747Z
LAST-MODIFIED:20200128T182747Z
UID:3041-1588406400-1588438800@theestatesacworth.com
SUMMARY:Acworth Dragon Boat Festival
DESCRIPTION:This page is protected and requires you to log in with a valid username and password.If you do not have a username and password for this site\, Click Here to request one. You may also follow whatever user account request procedure has been established and published by The Estates Homeowners Association.If you do have a user account\, please CLICK HERE TO LOG IN  \n\nChange your password \nForgotten password? \nRequest a new user account
URL:https://theestatesacworth.com/event/acworth-dragon-boat-festival/
END:VEVENT
BEGIN:VEVENT
DTSTART;TZID=UTC:20200427T183000
DTEND;TZID=UTC:20200427T200000
DTSTAMP:20260424T053219
CREATED:20200128T174411Z
LAST-MODIFIED:20200128T174411Z
UID:3014-1588012200-1588017600@theestatesacworth.com
SUMMARY:HOA Board Meeting
DESCRIPTION:This page is protected and requires you to log in with a valid username and password.If you do not have a username and password for this site\, Click Here to request one. You may also follow whatever user account request procedure has been established and published by The Estates Homeowners Association.If you do have a user account\, please CLICK HERE TO LOG IN  \n\nChange your password \nForgotten password? \nRequest a new user account
URL:https://theestatesacworth.com/event/hoa-board-meeting-9/
END:VEVENT
BEGIN:VEVENT
DTSTART;TZID=UTC:20200404T080000
DTEND;TZID=UTC:20200404T170000
DTSTAMP:20260424T053219
CREATED:20200128T184514Z
LAST-MODIFIED:20200128T184816Z
UID:3050-1585987200-1586019600@theestatesacworth.com
SUMMARY:OPENING OF PARK SEASON
DESCRIPTION:This page is protected and requires you to log in with a valid username and password.If you do not have a username and password for this site\, Click Here to request one. You may also follow whatever user account request procedure has been established and published by The Estates Homeowners Association.If you do have a user account\, please CLICK HERE TO LOG IN  \n\nChange your password \nForgotten password? \nRequest a new user account
URL:https://theestatesacworth.com/event/opening-of-park-season/
END:VEVENT
BEGIN:VEVENT
DTSTART;TZID=UTC:20200323T183000
DTEND;TZID=UTC:20200323T200000
DTSTAMP:20260424T053219
CREATED:20200128T174247Z
LAST-MODIFIED:20200128T174247Z
UID:3012-1584988200-1584993600@theestatesacworth.com
SUMMARY:HOA Board Meeting
DESCRIPTION:This page is protected and requires you to log in with a valid username and password.If you do not have a username and password for this site\, Click Here to request one. You may also follow whatever user account request procedure has been established and published by The Estates Homeowners Association.If you do have a user account\, please CLICK HERE TO LOG IN  \n\nChange your password \nForgotten password? \nRequest a new user account
URL:https://theestatesacworth.com/event/hoa-board-meeting-8/
END:VEVENT
BEGIN:VEVENT
DTSTART;TZID=UTC:20200224T183000
DTEND;TZID=UTC:20200224T200000
DTSTAMP:20260424T053219
CREATED:20200128T174136Z
LAST-MODIFIED:20200128T174136Z
UID:3010-1582569000-1582574400@theestatesacworth.com
SUMMARY:HOA Board Meeting
DESCRIPTION:This page is protected and requires you to log in with a valid username and password.If you do not have a username and password for this site\, Click Here to request one. You may also follow whatever user account request procedure has been established and published by The Estates Homeowners Association.If you do have a user account\, please CLICK HERE TO LOG IN  \n\nChange your password \nForgotten password? \nRequest a new user account
URL:https://theestatesacworth.com/event/hoa-board-meeting-7/
END:VEVENT
BEGIN:VEVENT
DTSTART;TZID=UTC:20200127T183000
DTEND;TZID=UTC:20200127T200000
DTSTAMP:20260424T053219
CREATED:20200128T173829Z
LAST-MODIFIED:20200128T173829Z
UID:3008-1580149800-1580155200@theestatesacworth.com
SUMMARY:HOA Board Meeting
DESCRIPTION:This page is protected and requires you to log in with a valid username and password.If you do not have a username and password for this site\, Click Here to request one. You may also follow whatever user account request procedure has been established and published by The Estates Homeowners Association.If you do have a user account\, please CLICK HERE TO LOG IN  \n\nChange your password \nForgotten password? \nRequest a new user account
URL:https://theestatesacworth.com/event/hoa-board-meeting-6/
END:VEVENT
BEGIN:VEVENT
DTSTART;TZID=UTC:20191223T183000
DTEND;TZID=UTC:20191223T200000
DTSTAMP:20260424T053219
CREATED:20190920T133137Z
LAST-MODIFIED:20190920T133137Z
UID:2683-1577125800-1577131200@theestatesacworth.com
SUMMARY:HOA Board Meeting
DESCRIPTION:This page is protected and requires you to log in with a valid username and password.If you do not have a username and password for this site\, Click Here to request one. You may also follow whatever user account request procedure has been established and published by The Estates Homeowners Association.If you do have a user account\, please CLICK HERE TO LOG IN  \n\nChange your password \nForgotten password? \nRequest a new user account
URL:https://theestatesacworth.com/event/hoa-board-meeting-5/
END:VEVENT
BEGIN:VEVENT
DTSTART;TZID=UTC:20191216T190000
DTEND;TZID=UTC:20191216T210000
DTSTAMP:20260424T053219
CREATED:20191215T152451Z
LAST-MODIFIED:20191215T152451Z
UID:3003-1576522800-1576530000@theestatesacworth.com
SUMMARY:HOA Annual Meeting
DESCRIPTION:This page is protected and requires you to log in with a valid username and password.If you do not have a username and password for this site\, Click Here to request one. You may also follow whatever user account request procedure has been established and published by The Estates Homeowners Association.If you do have a user account\, please CLICK HERE TO LOG IN  \n\nChange your password \nForgotten password? \nRequest a new user account
URL:https://theestatesacworth.com/event/hoa-annual-meeting/
LOCATION:Clubhouse
END:VEVENT
END:VCALENDAR